Workbook

Sheet Liste
A1: SKI - Basar SC Pfronten
I2: Chiffre-Nr.
A4: Vergabe der Chiffrenummern: skibasar-scpfronten@web.de | F4: Datum: 24.10.2026 Ort: Sporthalle Mittelschule Pfronten Annahme: Freitag 23.10. von 16:00 - 18:00 Uhr Verkauf: Samstag 24.10. von 10:00 - 12:00 Uhr Abholung: Samstag 24.10. von 15:00 - 16:00 Uhr
A10: Name: | F10: PLZ/Ort:
A11: Straße: | F11: Telefon:
A13: Lfd-Nr. | B13: Artikel | G13: Größe | H13: Preis | I13: für Abrechnung frei lassen
A14: 1
A15: 2
A16: 3
A17: 4
A18: 5
A19: 6
A20: 7
A21: 8
A22: 9
A23: 10
A24: 11
A25: 12
... A38: 25
H39: Summe:
I42: Chiffre-Nr.
A43: Name: | B43: =B10 -> 0 | I43: =I1 -> 0
A46: Lfd-Nr. | B46: Artikel | G46: Größe | H46: Preis | I46: für Abrechnung frei lassen
A47: 26
A48: 27
A49: 28
A50: 29
A51: 30
A52: 31
A53: 32
A54: 33
A55: 34
A56: 35
A57: 36
A58: 37
... A71: 50
G72: Gesamtsumme:
G74: minus 10%
G75: minus 2.- (Refinanzierung)
G76: Auszahlung:
A79: Keine Haftung bei Verlust oder Beschädigung!!!

Sheet Etiketten1-25
B2: CHIFFRE-NR. | E2: CHIFFRE-NR. | H2: CHIFFRE-NR. | K2: CHIFFRE-NR. | N2: CHIFFRE-NR.
B3: =Liste!$I$1 -> 0 | E3: =Liste!$I$1 -> 0 | H3: =Liste!$I$1 -> 0 | K3: =Liste!$I$1 -> 0 | N3: =Liste!$I$1 -> 0
B4: 1 | E4: 2 | H4: 3 | K4: 4 | N4: 5
B6: Lfd.-Nr. | E6: Lfd.-Nr. | H6: Lfd.-Nr. | K6: Lfd.-Nr. | N6: Lfd.-Nr.
B7: =Liste!$B14 -> 0 | E7: =Liste!$B15 -> 0 | H7: =Liste!$B16 -> 0 | K7: =Liste!$B17 -> 0 | N7: =Liste!$B18 -> 0
B8: Bezeichnung | E8: Bezeichnung | H8: Bezeichnung | K8: Bezeichnung | N8: Bezeichnung
B9: =Liste!$G14 -> 0 | E9: =Liste!$G15 -> 0 | H9: =Liste!$G16 -> 0 | K9: =Liste!$G17 -> 0 | N9: =Liste!$G18 -> 0
B10: Größe | E10: Größe | H10: Größe | K10: Größe | N10: Größe
B11: =Liste!$H14 -> 0 | E11: =Liste!$H15 -> 0 | H11: =Liste!$H16 -> 0 | K11: =Liste!$H17 -> 0 | N11: =Liste!$H18 -> 0
B12: Preis | E12: Preis | H12: Preis | K12: Preis | N12: Preis
B14: CHIFFRE-NR. | E14: CHIFFRE-NR. | H14: CHIFFRE-NR. | K14: CHIFFRE-NR. | N14: CHIFFRE-NR.
B15: =Liste!$I$1 -> 0 | E15: =Liste!$I$1 -> 0 | H15: =Liste!$I$1 -> 0 | K15: =Liste!$I$1 -> 0 | N15: =Liste!$I$1 -> 0
B16: 6 | E16: 7 | H16: 8 | K16: 9 | N16: 10
B18: Lfd.-Nr. | E18: Lfd.-Nr. | H18: Lfd.-Nr. | K18: Lfd.-Nr. | N18: Lfd.-Nr.
B19: =Liste!$B19 -> 0 | E19: =Liste!$B20 -> 0 | H19: =Liste!$B21 -> 0 | K19: =Liste!$B22 -> 0 | N19: =Liste!$B23 -> 0
B20: Bezeichnung | E20: Bezeichnung | H20: Bezeichnung | K20: Bezeichnung | N20: Bezeichnung
B21: =Liste!$G19 -> 0 | E21: =Liste!$G20 -> 0 | H21: =Liste!$G21 -> 0 | K21: =Liste!$G22 -> 0 | N21: =Liste!$G23 -> 0
B22: Größe | E22: Größe | H22: Größe | K22: Größe | N22: Größe
B23: =Liste!$H19 -> 0 | E23: =Liste!$H20 -> 0 | H23: =Liste!$H21 -> 0 | K23: =Liste!$H22 -> 0 | N23: =Liste!$H23 -> 0
B24: Preis | E24: Preis | H24: Preis | K24: Preis | N24: Preis
B26: CHIFFRE-NR. | E26: CHIFFRE-NR. | H26: CHIFFRE-NR. | K26: CHIFFRE-NR. | N26: CHIFFRE-NR.
B27: =Liste!$I$1 -> 0 | E27: =Liste!$I$1 -> 0 | H27: =Liste!$I$1 -> 0 | K27: =Liste!$I$1 -> 0 | N27: =Liste!$I$1 -> 0
B28: 11 | E28: 12 | H28: 13 | K28: 14 | N28: 15
B30: Lfd.-Nr. | E30: Lfd.-Nr. | H30: Lfd.-Nr. | K30: Lfd.-Nr. | N30: Lfd.-Nr.
B31: =Liste!$B24 -> 0 | E31: =Liste!$B25 -> 0 | H31: =Liste!$B26 -> 0 | K31: =Liste!$B27 -> 0 | N31: =Liste!$B28 -> 0
B32: Bezeichnung | E32: Bezeichnung | H32: Bezeichnung | K32: Bezeichnung | N32: Bezeichnung
B33: =Liste!$G24 -> 0 | E33: =Liste!$G25 -> 0 | H33: =Liste!$G26 -> 0 | K33: =Liste!$G27 -> 0 | N33: =Liste!$G28 -> 0
B34: Größe | E34: Größe | H34: Größe | K34: Größe | N34: Größe
B35: =Liste!$H24 -> 0 | E35: =Liste!$H25 -> 0 | H35: =Liste!$H26 -> 0 | K35: =Liste!$H27 -> 0 | N35: =Liste!$H28 -> 0
B36: Preis | E36: Preis | H36: Preis | K36: Preis | N36: Preis
B38: CHIFFRE-NR. | E38: CHIFFRE-NR. | H38: CHIFFRE-NR. | K38: CHIFFRE-NR. | N38: CHIFFRE-NR.
B39: =Liste!$I$1 -> 0 | E39: =Liste!$I$1 -> 0 | H39: =Liste!$I$1 -> 0 | K39: =Liste!$I$1 -> 0 | N39: =Liste!$I$1 -> 0
B40: 16 | E40: 17 | H40: 18 | K40: 19 | N40: 20
B42: Lfd.-Nr. | E42: Lfd.-Nr. | H42: Lfd.-Nr. | K42: Lfd.-Nr. | N42: Lfd.-Nr.
B43: =Liste!$B29 -> 0 | E43: =Liste!$B30 -> 0 | H43: =Liste!$B31 -> 0 | K43: =Liste!$B32 -> 0 | N43: =Liste!$B33 -> 0
B44: Bezeichnung | E44: Bezeichnung | H44: Bezeichnung | K44: Bezeichnung | N44: Bezeichnung
B45: =Liste!$G29 -> 0 | E45: =Liste!$G30 -> 0 | H45: =Liste!$G31 -> 0 | K45: =Liste!$G32 -> 0 | N45: =Liste!$G33 -> 0
B46: Größe | E46: Größe | H46: Größe | K46: Größe | N46: Größe
B47: =Liste!$H29 -> 0 | E47: =Liste!$H30 -> 0 | H47: =Liste!$H31 -> 0 | K47: =Liste!$H32 -> 0 | N47: =Liste!$H33 -> 0
B48: Preis | E48: Preis | H48: Preis | K48: Preis | N48: Preis
B50: CHIFFRE-NR. | E50: CHIFFRE-NR. | H50: CHIFFRE-NR. | K50: CHIFFRE-NR. | N50: CHIFFRE-NR.
B51: =Liste!$I$1 -> 0 | E51: =Liste!$I$1 -> 0 | H51: =Liste!$I$1 -> 0 | K51: =Liste!$I$1 -> 0 | N51: =Liste!$I$1 -> 0
B52: 21 | E52: 22 | H52: 23 | K52: 24 | N52: 25
B54: Lfd.-Nr. | E54: Lfd.-Nr. | H54: Lfd.-Nr. | K54: Lfd.-Nr. | N54: Lfd.-Nr.
B55: =Liste!$B34 -> 0 | E55: =Liste!$B35 -> 0 | H55: =Liste!$B36 -> 0 | K55: =Liste!$B37 -> 0 | N55: =Liste!$B38 -> 0
B56: Bezeichnung | E56: Bezeichnung | H56: Bezeichnung | K56: Bezeichnung | N56: Bezeichnung
B57: =Liste!$G34 -> 0 | E57: =Liste!$G35 -> 0 | H57: =Liste!$G36 -> 0 | K57: =Liste!$G37 -> 0 | N57: =Liste!$G38 -> 0
B58: Größe | E58: Größe | H58: Größe | K58: Größe | N58: Größe
B59: =Liste!$H34 -> 0 | E59: =Liste!$H35 -> 0 | H59: =Liste!$H36 -> 0 | K59: =Liste!$H37 -> 0 | N59: =Liste!$H38 -> 0
B60: Preis | E60: Preis | H60: Preis | K60: Preis | N60: Preis

Sheet Etiketten26-50
B2: CHIFFRE-NR. | E2: CHIFFRE-NR. | H2: CHIFFRE-NR. | K2: CHIFFRE-NR. | N2: CHIFFRE-NR.
B3: =Liste!$I$1 -> 0 | E3: =Liste!$I$1 -> 0 | H3: =Liste!$I$1 -> 0 | K3: =Liste!$I$1 -> 0 | N3: =Liste!$I$1 -> 0
B4: 26 | E4: 27 | H4: 28 | K4: 29 | N4: 30
B6: Lfd.-Nr. | E6: Lfd.-Nr. | H6: Lfd.-Nr. | K6: Lfd.-Nr. | N6: Lfd.-Nr.
B7: =Liste!$B47 -> 0 | E7: =Liste!$B48 -> 0 | H7: =Liste!$B49 -> 0 | K7: =Liste!$B50 -> 0 | N7: =Liste!$B51 -> 0
B8: Bezeichnung | E8: Bezeichnung | H8: Bezeichnung | K8: Bezeichnung | N8: Bezeichnung
B9: =Liste!$G47 -> 0 | E9: =Liste!$G48 -> 0 | H9: =Liste!$G49 -> 0 | K9: =Liste!$G50 -> 0 | N9: =Liste!$G51 -> 0
B10: Größe | E10: Größe | H10: Größe | K10: Größe | N10: Größe
B11: =Liste!$H47 -> 0 | E11: =Liste!$H48 -> 0 | H11: =Liste!$H49 -> 0 | K11: =Liste!$H50 -> 0 | N11: =Liste!$H51 -> 0
B12: Preis | E12: Preis | H12: Preis | K12: Preis | N12: Preis
B14: CHIFFRE-NR. | E14: CHIFFRE-NR. | H14: CHIFFRE-NR. | K14: CHIFFRE-NR. | N14: CHIFFRE-NR.
B15: =Liste!$I$1 -> 0 | E15: =Liste!$I$1 -> 0 | H15: =Liste!$I$1 -> 0 | K15: =Liste!$I$1 -> 0 | N15: =Liste!$I$1 -> 0
B16: 31 | E16: 32 | H16: 33 | K16: 34 | N16: 35
B18: Lfd.-Nr. | E18: Lfd.-Nr. | H18: Lfd.-Nr. | K18: Lfd.-Nr. | N18: Lfd.-Nr.
B19: =Liste!$B52 -> 0 | E19: =Liste!$B53 -> 0 | H19: =Liste!$B54 -> 0 | K19: =Liste!$B55 -> 0 | N19: =Liste!$B56 -> 0
B20: Bezeichnung | E20: Bezeichnung | H20: Bezeichnung | K20: Bezeichnung | N20: Bezeichnung
B21: =Liste!$G52 -> 0 | E21: =Liste!$G53 -> 0 | H21: =Liste!$G54 -> 0 | K21: =Liste!$G55 -> 0 | N21: =Liste!$G56 -> 0
B22: Größe | E22: Größe | H22: Größe | K22: Größe | N22: Größe
B23: =Liste!$H52 -> 0 | E23: =Liste!$H53 -> 0 | H23: =Liste!$H54 -> 0 | K23: =Liste!$H55 -> 0 | N23: =Liste!$H56 -> 0
B24: Preis | E24: Preis | H24: Preis | K24: Preis | N24: Preis
B26: CHIFFRE-NR. | E26: CHIFFRE-NR. | H26: CHIFFRE-NR. | K26: CHIFFRE-NR. | N26: CHIFFRE-NR.
B27: =Liste!$I$1 -> 0 | E27: =Liste!$I$1 -> 0 | H27: =Liste!$I$1 -> 0 | K27: =Liste!$I$1 -> 0 | N27: =Liste!$I$1 -> 0
B28: 36 | E28: 37 | H28: 38 | K28: 39 | N28: 40
B30: Lfd.-Nr. | E30: Lfd.-Nr. | H30: Lfd.-Nr. | K30: Lfd.-Nr. | N30: Lfd.-Nr.
B31: =Liste!$B57 -> 0 | E31: =Liste!$B58 -> 0 | H31: =Liste!$B59 -> 0 | K31: =Liste!$B60 -> 0 | N31: =Liste!$B61 -> 0
B32: Bezeichnung | E32: Bezeichnung | H32: Bezeichnung | K32: Bezeichnung | N32: Bezeichnung
B33: =Liste!$G57 -> 0 | E33: =Liste!$G58 -> 0 | H33: =Liste!$G59 -> 0 | K33: =Liste!$G60 -> 0 | N33: =Liste!$G61 -> 0
B34: Größe | E34: Größe | H34: Größe | K34: Größe | N34: Größe
B35: =Liste!$H57 -> 0 | E35: =Liste!$H58 -> 0 | H35: =Liste!$H59 -> 0 | K35: =Liste!$H60 -> 0 | N35: =Liste!$H61 -> 0
B36: Preis | E36: Preis | H36: Preis | K36: Preis | N36: Preis
B38: CHIFFRE-NR. | E38: CHIFFRE-NR. | H38: CHIFFRE-NR. | K38: CHIFFRE-NR. | N38: CHIFFRE-NR.
B39: =Liste!$I$1 -> 0 | E39: =Liste!$I$1 -> 0 | H39: =Liste!$I$1 -> 0 | K39: =Liste!$I$1 -> 0 | N39: =Liste!$I$1 -> 0
B40: 41 | E40: 42 | H40: 43 | K40: 44 | N40: 45
B42: Lfd.-Nr. | E42: Lfd.-Nr. | H42: Lfd.-Nr. | K42: Lfd.-Nr. | N42: Lfd.-Nr.
B43: =Liste!$B62 -> 0 | E43: =Liste!$B63 -> 0 | H43: =Liste!$B64 -> 0 | K43: =Liste!$B65 -> 0 | N43: =Liste!$B66 -> 0
B44: Bezeichnung | E44: Bezeichnung | H44: Bezeichnung | K44: Bezeichnung | N44: Bezeichnung
B45: =Liste!$G62 -> 0 | E45: =Liste!$G63 -> 0 | H45: =Liste!$G64 -> 0 | K45: =Liste!$G65 -> 0 | N45: =Liste!$G66 -> 0
B46: Größe | E46: Größe | H46: Größe | K46: Größe | N46: Größe
B47: =Liste!$H62 -> 0 | E47: =Liste!$H63 -> 0 | H47: =Liste!$H64 -> 0 | K47: =Liste!$H65 -> 0 | N47: =Liste!$H66 -> 0
B48: Preis | E48: Preis | H48: Preis | K48: Preis | N48: Preis
B50: CHIFFRE-NR. | E50: CHIFFRE-NR. | H50: CHIFFRE-NR. | K50: CHIFFRE-NR. | N50: CHIFFRE-NR.
B51: =Liste!$I$1 -> 0 | E51: =Liste!$I$1 -> 0 | H51: =Liste!$I$1 -> 0 | K51: =Liste!$I$1 -> 0 | N51: =Liste!$I$1 -> 0
B52: 46 | E52: 47 | H52: 48 | K52: 49 | N52: 50
B54: Lfd.-Nr. | E54: Lfd.-Nr. | H54: Lfd.-Nr. | K54: Lfd.-Nr. | N54: Lfd.-Nr.
B55: =Liste!$B67 -> 0 | E55: =Liste!$B68 -> 0 | H55: =Liste!$B69 -> 0 | K55: =Liste!$B70 -> 0 | N55: =Liste!$B71 -> 0
B56: Bezeichnung | E56: Bezeichnung | H56: Bezeichnung | K56: Bezeichnung | N56: Bezeichnung
B57: =Liste!$G67 -> 0 | E57: =Liste!$G68 -> 0 | H57: =Liste!$G69 -> 0 | K57: =Liste!$G70 -> 0 | N57: =Liste!$G71 -> 0
B58: Größe | E58: Größe | H58: Größe | K58: Größe | N58: Größe
B59: =Liste!$H67 -> 0 | E59: =Liste!$H68 -> 0 | H59: =Liste!$H69 -> 0 | K59: =Liste!$H70 -> 0 | N59: =Liste!$H71 -> 0
B60: Preis | E60: Preis | H60: Preis | K60: Preis | N60: Preis

Sheet Listennummer
B1: 0
B27: =Liste!$I$1 -> 0
